BEGIN:VCALENDAR
VERSION:2.0
PRODID:-//SweetBeast - ECPv6.13.2.1//NONSGML v1.0//EN
CALSCALE:GREGORIAN
METHOD:PUBLISH
X-WR-CALNAME:SweetBeast
X-ORIGINAL-URL:https://sweetbeast.ca
X-WR-CALDESC:Events for SweetBeast
REFRESH-INTERVAL;VALUE=DURATION:PT1H
X-Robots-Tag:noindex
X-PUBLISHED-TTL:PT1H
BEGIN:VTIMEZONE
TZID:America/Vancouver
BEGIN:DAYLIGHT
TZOFFSETFROM:-0800
TZOFFSETTO:-0700
TZNAME:PDT
DTSTART:20240310T100000
END:DAYLIGHT
BEGIN:STANDARD
TZOFFSETFROM:-0700
TZOFFSETTO:-0800
TZNAME:PST
DTSTART:20241103T090000
END:STANDARD
END:VTIMEZONE
BEGIN:VTIMEZONE
TZID:UTC
BEGIN:STANDARD
TZOFFSETFROM:+0000
TZOFFSETTO:+0000
TZNAME:UTC
DTSTART:20230101T000000
END:STANDARD
END:VTIMEZONE
BEGIN:VEVENT
DTSTART;TZID=America/Vancouver:20241215T190000
DTEND;TZID=America/Vancouver:20241215T233000
DTSTAMP:20260425T145920
CREATED:20241018T042624Z
LAST-MODIFIED:20241018T043145Z
UID:471-1734289200-1734305400@sweetbeast.ca
SUMMARY:The Cobalt in Vancouver
DESCRIPTION:The Well \nSpace Queen \nSweetBeast \nDec 15 \n@ The Cobalt
URL:https://sweetbeast.ca/event/the-cobalt-in-vancouver/
LOCATION:The Cobalt\, 917 Main Street\, Vancouver\, BC\, V6A2V8\, Canada
ATTACH;FMTTYPE=image/jpeg:https://sweetbeast.ca/wp-content/uploads/2024/10/1867-4601025.jpeg
END:VEVENT
BEGIN:VEVENT
DTSTART;TZID=America/Vancouver:20241025T200000
DTEND;TZID=America/Vancouver:20241026T020000
DTSTAMP:20260425T145920
CREATED:20241018T024137Z
LAST-MODIFIED:20241018T043238Z
UID:407-1729886400-1729908000@sweetbeast.ca
SUMMARY:TDTU 2024
DESCRIPTION:Oct 25th \n@ Tonic’s Pub \nSweetBeast \nSatan Therapist \nBort \nSpace Queen \nMathew Kocel (Cosmic Throat Singer)
URL:https://sweetbeast.ca/event/tdtu-2024/
LOCATION:Tonic’s Pub\, 1654 Ellis Street\, Kelowna\, BC\, V1X 6P6\, Canada
ATTACH;FMTTYPE=image/png:https://sweetbeast.ca/wp-content/uploads/2024/10/461286074_1589078835369641_1186484572239774839_n.png
END:VEVENT
BEGIN:VEVENT
DTSTART;TZID=America/Vancouver:20240203T190000
DTEND;TZID=America/Vancouver:20240204T010000
DTSTAMP:20260425T145920
CREATED:20240113T005802Z
LAST-MODIFIED:20240114T005000Z
UID:73-1706986800-1707008400@sweetbeast.ca
SUMMARY:SweetBeast at The Royal in Nelson
DESCRIPTION:Feb 3rd \n330 Baker Street \nSweetBeast \nSpace Queen \nPharm \nCaver Dweller \n 
URL:https://sweetbeast.ca/event/sweetbeast-at-the-royal-in-nelson/
LOCATION:The Royal\, 330 Baker Street\, Nelson\, BC\, Canada
ATTACH;FMTTYPE=image/png:https://sweetbeast.ca/wp-content/uploads/2024/01/the-royal-nelson.png
END:VEVENT
BEGIN:VEVENT
DTSTART;TZID=UTC:20240202T193000
DTEND;TZID=UTC:20240202T193000
DTSTAMP:20260425T145920
CREATED:20240114T004744Z
LAST-MODIFIED:20240114T004904Z
UID:262-1706902200-1706902200@sweetbeast.ca
SUMMARY:SweetBeast at Record City in Vernon
DESCRIPTION:Record City (BBDB’s) with Space Queen and Pharm!
URL:https://sweetbeast.ca/event/sweetbeast-at-record-city-in-vernon/
LOCATION:Record City (BBDB’s)\, 3127 30th Ave\, Vernon\, BC\, Canada
ATTACH;FMTTYPE=image/png:https://sweetbeast.ca/wp-content/uploads/2024/01/record-city.png
END:VEVENT
BEGIN:VEVENT
DTSTART;TZID=UTC:20231014T080000
DTEND;TZID=UTC:20231014T170000
DTSTAMP:20260425T145920
CREATED:20240114T003844Z
LAST-MODIFIED:20240114T003844Z
UID:263-1697270400-1697302800@sweetbeast.ca
SUMMARY:Record City in Vernon
DESCRIPTION:Record City (BBDB’s) with our friends High Horse\, The Black Of Hearts\, and Crashlanders!!
URL:https://sweetbeast.ca/event/record-city-in-vernon/
LOCATION:BC
END:VEVENT
END:VCALENDAR